BEGIN:VCALENDAR
VERSION:2.0
PRODID:-//eventon.com NONSGML v1.0//EN
CALSCALE:GREGORIAN
METHOD:PUBLISH
BEGIN:VEVENT
UID:69e9ca7e27930
DTSTAMP:20260423T003006
DTSTART:20270110T210000Z
DTEND:20270111T000000Z
TZID:America/Los_Angeles
LOCATION:Muller House Museum &amp; Gift Shop 1542 S. Beacon St.
SUMMARY:Muller House Museum and Gift Shop
DESCRIPTION: Open the first and second Sunday of the month\,  closed most major holidays\,  if noted on the website Calendar. Tours are from 1 P.M. to 4 P.M. The last tour is at 3:15 P.M. The tour is free\,  but a donation of $5.00 per person is appreciated. (310) 831-1788 or e-mail[..]\nhttps://sanpedrobayhistoricalsociety.com/events/muller-house-museum-and-gift-shop-open/var/ri-136.l-L1
URL:https://sanpedrobayhistoricalsociety.com/events/muller-house-museum-and-gift-shop-open/var/ri-136.l-L1
END:VEVENT
END:VCALENDAR