BEGIN:VCALENDAR
VERSION:2.0
PRODID:-//eventon.com NONSGML v1.0//EN
CALSCALE:GREGORIAN
METHOD:PUBLISH
BEGIN:VEVENT
UID:69e9e0dc1f2a5
DTSTAMP:20260423T020532
DTSTART:20261231T000000Z
DTEND:20261231T030000Z
TZID:Pacific/Midway
LOCATION:San Pedro Municipal Building - Archives 638. S. Beacon St.\,  Room 626
SUMMARY:ARCHIVES - OPEN MONDAY & WEDNESDAY
DESCRIPTION: ARCHIVES VISITS ARE OPEN EVERY MONDAY AND WEDNESDAY\,  EXCEPT HOLIDAYS. PLEASE CALL OR EMAIL TO VISIT OR FOR RESEARCH HELP. EMAIL: historical.soc3180@att.net Phone inquiries can be taken from 1:00 to 4:00 p.m. Mondays and Wednesdays  PHONE: (310) 548-3208 Staffed by knowledgeable volunteers\,  &nbsp;the Archives&nbsp;offer &nbsp;a wide variety of research &nbsp;materials[..]\nhttps://sanpedrobayhistoricalsociety.com/events/archives-open-2/var/ri-175.l-L1
URL:https://sanpedrobayhistoricalsociety.com/events/archives-open-2/var/ri-175.l-L1
END:VEVENT
END:VCALENDAR